BEGIN:VCALENDAR
VERSION:2.0
PRODID:-//CLEVER Planets - ECPv6.15.3//NONSGML v1.0//EN
CALSCALE:GREGORIAN
METHOD:PUBLISH
X-ORIGINAL-URL:http://cleverplanets.org
X-WR-CALDESC:Events for CLEVER Planets
REFRESH-INTERVAL;VALUE=DURATION:PT1H
X-Robots-Tag:noindex
X-PUBLISHED-TTL:PT1H
BEGIN:VTIMEZONE
TZID:America/Chicago
BEGIN:DAYLIGHT
TZOFFSETFROM:-0600
TZOFFSETTO:-0500
TZNAME:CDT
DTSTART:20180311T080000
END:DAYLIGHT
BEGIN:STANDARD
TZOFFSETFROM:-0500
TZOFFSETTO:-0600
TZNAME:CST
DTSTART:20181104T070000
END:STANDARD
BEGIN:DAYLIGHT
TZOFFSETFROM:-0600
TZOFFSETTO:-0500
TZNAME:CDT
DTSTART:20190310T080000
END:DAYLIGHT
BEGIN:STANDARD
TZOFFSETFROM:-0500
TZOFFSETTO:-0600
TZNAME:CST
DTSTART:20191103T070000
END:STANDARD
END:VTIMEZONE
BEGIN:VEVENT
DTSTART;TZID=America/Chicago:20190115T080000
DTEND;TZID=America/Chicago:20190116T120000
DTSTAMP:20260423T232709
CREATED:20190112T000832Z
LAST-MODIFIED:20190112T001721Z
UID:1572-1547539200-1547640000@cleverplanets.org
SUMMARY:Kick-Off Meeting
DESCRIPTION:The first meeting of CLEVER Planets attendees is happening January 14-15th\, 2019\, at Rice University in Houston\, TX. At this Kick-Off Meeting\, co-investigators\, collaborators and their postdoctoral scholars and students will convene to share their research and discuss goals and collaborations for the project over the next few years. \nSee the itinerary and list of attendees here:\nCLEVERPlanets_Kick-OffMeeting_Schedule
URL:http://cleverplanets.org/event/kick-off-meeting/
CATEGORIES:CLEVERPlanet Event,Conference,Meeting
END:VEVENT
BEGIN:VEVENT
DTSTART;TZID=America/Chicago:20190108T120000
DTEND;TZID=America/Chicago:20190108T133000
DTSTAMP:20260423T232709
CREATED:20181204T072213Z
LAST-MODIFIED:20181206T160908Z
UID:1507-1546948800-1546954200@cleverplanets.org
SUMMARY:Weekly Members Meeting
DESCRIPTION:Weekly Project meeting at Rice KWGL 123 at 12pm CST\, 11am Rockys\, 10am Pacific. See Members page (login via footer) to access Zoom video conference and find papers for discussion.
URL:http://cleverplanets.org/event/weekly-members-meeting-5/
CATEGORIES:CLEVERPlanet Event,Meeting
END:VEVENT
BEGIN:VEVENT
DTSTART;TZID=America/Chicago:20181204T120000
DTEND;TZID=America/Chicago:20181204T133000
DTSTAMP:20260423T232709
CREATED:20181203T170056Z
LAST-MODIFIED:20181203T170540Z
UID:1505-1543924800-1543930200@cleverplanets.org
SUMMARY:Weekly Members Meeting
DESCRIPTION:Weekly Project meeting at Rice KWGL 123 at 12pm CST\, 11am Rockys\, 10am Pacific. See Members page (login via footer) to access Zoom video conference and find papers for discussion.
URL:http://cleverplanets.org/event/weekly-members-meeting-4/
CATEGORIES:CLEVERPlanet Event,Meeting
END:VEVENT
BEGIN:VEVENT
DTSTART;TZID=America/Chicago:20181127T120000
DTEND;TZID=America/Chicago:20181127T133000
DTSTAMP:20260423T232709
CREATED:20181127T180012Z
LAST-MODIFIED:20181203T162111Z
UID:1503-1543320000-1543325400@cleverplanets.org
SUMMARY:Weekly Members Meeting
DESCRIPTION:Weekly Project meeting at Rice KWGL 123 at 12pm CST\, 11am Rockys\, 10am Pacific. See Members page (login via footer) to access Zoom video conference and find papers for discussion.
URL:http://cleverplanets.org/event/weekly-members-meeting-3/
CATEGORIES:CLEVERPlanet Event,Meeting
END:VEVENT
BEGIN:VEVENT
DTSTART;TZID=America/Chicago:20181120T120000
DTEND;TZID=America/Chicago:20181120T133000
DTSTAMP:20260423T232709
CREATED:20181113T191325Z
LAST-MODIFIED:20181203T162044Z
UID:1457-1542715200-1542720600@cleverplanets.org
SUMMARY:Weekly Members Meeting
DESCRIPTION:Weekly Project meeting at Rice KWGL 123 at 12pm CST\, 11am Rockys\, 10am Pacific. See Members page (login via footer) to access Zoom video conference and find papers for discussion.
URL:http://cleverplanets.org/event/weekly-members-meeting-2/
CATEGORIES:CLEVERPlanet Event,Meeting
END:VEVENT
BEGIN:VEVENT
DTSTART;TZID=America/Chicago:20181113T120000
DTEND;TZID=America/Chicago:20181113T133000
DTSTAMP:20260423T232709
CREATED:20181113T211659Z
LAST-MODIFIED:20181203T161909Z
UID:1469-1542110400-1542115800@cleverplanets.org
SUMMARY:Weekly Members Meeting
DESCRIPTION:Weekly Project meeting at Rice KWGL 123 at 12pm CST\, 11am Rockys\, 10am Pacific. See Members page (login via footer) to access Zoom video conference and find papers for discussion.
URL:http://cleverplanets.org/event/weekly-members-meeting/
CATEGORIES:CLEVERPlanet Event,Meeting
END:VEVENT
BEGIN:VEVENT
DTSTART;TZID=America/Chicago:20181002T183000
DTEND;TZID=America/Chicago:20181002T200000
DTSTAMP:20260423T232709
CREATED:20180928T193335Z
LAST-MODIFIED:20180928T194842Z
UID:1388-1538505000-1538510400@cleverplanets.org
SUMMARY:Lee lectures at HMNS
DESCRIPTION:See CLEVER Planets scientist and Rice University Department of Earth\, Environmental and Planetary Sciences Professor and Chair give a lecture entitled “Volcanoes\, Life and Energy” at the Houston Museum of Natural Sciences in Houston\, TX on Tuesday\, October 2nd at 6:30 PM in the Planetarium. For locals and non-locals alike\, he will be interviewed via LIVE Facebook video the day preceding (Monday\, Oct 1st) at 4 PM (CST). \nTickets and lecture description are available through the HMNS website here for $14 for members and $20 for non-members.
URL:http://cleverplanets.org/event/lee-lectures-at-hmns/
CATEGORIES:CLEVERPlanet Event,Lecture/Webinar
END:VEVENT
BEGIN:VEVENT
DTSTART;TZID=America/Chicago:20181001T160000
DTEND;TZID=America/Chicago:20181001T170000
DTSTAMP:20260423T232709
CREATED:20180928T193841Z
LAST-MODIFIED:20180928T194938Z
UID:1391-1538409600-1538413200@cleverplanets.org
SUMMARY:Lee interviewed by HMNS online
DESCRIPTION:See CLEVER Planets scientist and Rice University Department of Earth\, Environmental and Planetary Sciences Professor and Chair interviewed by HMNS on Facebook LIVE video at 4 PM (CST)\, prior to a lecture he will give entitled “Volcanoes\, Life and Energy” at the Houston Museum of Natural Sciences in Houston\, TX on Tuesday\, October 2nd at 6:30 PM in the Planetarium.
URL:http://cleverplanets.org/event/lee-interviewed-by-hmns/
CATEGORIES:CLEVERPlanet Event,Lecture/Webinar
END:VEVENT
END:VCALENDAR