BEGIN:VCALENDAR
VERSION:2.0
PRODID:-//CLEVER Planets - ECPv6.15.3//NONSGML v1.0//EN
CALSCALE:GREGORIAN
METHOD:PUBLISH
X-ORIGINAL-URL:https://cleverplanets.org
X-WR-CALDESC:Events for CLEVER Planets
REFRESH-INTERVAL;VALUE=DURATION:PT1H
X-Robots-Tag:noindex
X-PUBLISHED-TTL:PT1H
BEGIN:VTIMEZONE
TZID:America/Chicago
BEGIN:DAYLIGHT
TZOFFSETFROM:-0600
TZOFFSETTO:-0500
TZNAME:CDT
DTSTART:20180311T080000
END:DAYLIGHT
BEGIN:STANDARD
TZOFFSETFROM:-0500
TZOFFSETTO:-0600
TZNAME:CST
DTSTART:20181104T070000
END:STANDARD
BEGIN:DAYLIGHT
TZOFFSETFROM:-0600
TZOFFSETTO:-0500
TZNAME:CDT
DTSTART:20190310T080000
END:DAYLIGHT
BEGIN:STANDARD
TZOFFSETFROM:-0500
TZOFFSETTO:-0600
TZNAME:CST
DTSTART:20191103T070000
END:STANDARD
END:VTIMEZONE
BEGIN:VEVENT
DTSTART;TZID=America/Chicago:20190115T080000
DTEND;TZID=America/Chicago:20190116T120000
DTSTAMP:20260423T211529
CREATED:20190112T000832Z
LAST-MODIFIED:20190112T001721Z
UID:1572-1547539200-1547640000@cleverplanets.org
SUMMARY:Kick-Off Meeting
DESCRIPTION:The first meeting of CLEVER Planets attendees is happening January 14-15th\, 2019\, at Rice University in Houston\, TX. At this Kick-Off Meeting\, co-investigators\, collaborators and their postdoctoral scholars and students will convene to share their research and discuss goals and collaborations for the project over the next few years. \nSee the itinerary and list of attendees here:\nCLEVERPlanets_Kick-OffMeeting_Schedule
URL:https://cleverplanets.org/event/kick-off-meeting/
CATEGORIES:CLEVERPlanet Event,Conference,Meeting
END:VEVENT
BEGIN:VEVENT
DTSTART;VALUE=DATE:20181210
DTEND;VALUE=DATE:20181215
DTSTAMP:20260423T211529
CREATED:20180824T145012Z
LAST-MODIFIED:20190129T145307Z
UID:996-1544400000-1544831999@cleverplanets.org
SUMMARY:AGU Meeting
DESCRIPTION:American Geophysical Union’s Annual Fall Meeting\, Washington\, D.C.
URL:https://cleverplanets.org/event/agu-meeting/
CATEGORIES:Conference
END:VEVENT
BEGIN:VEVENT
DTSTART;VALUE=DATE:20181104
DTEND;VALUE=DATE:20181108
DTSTAMP:20260423T211529
CREATED:20180824T144234Z
LAST-MODIFIED:20190129T145318Z
UID:990-1541289600-1541635199@cleverplanets.org
SUMMARY:GSA Meeting
DESCRIPTION:Annual Geological Society of America Meeting\, Indianapolis\, Indiana
URL:https://cleverplanets.org/event/gsa-meeting/
CATEGORIES:Conference
END:VEVENT
BEGIN:VEVENT
DTSTART;VALUE=DATE:20180924
DTEND;VALUE=DATE:20180929
DTSTAMP:20260423T211529
CREATED:20180824T150335Z
LAST-MODIFIED:20190129T145327Z
UID:1004-1537747200-1538179199@cleverplanets.org
SUMMARY:EANA Meeting
DESCRIPTION:European Astrobiology Conference\, Berlin\, Germany
URL:https://cleverplanets.org/event/eana-meeting/
CATEGORIES:Conference
END:VEVENT
END:VCALENDAR